BEGIN:VCALENDAR
VERSION:2.0
PRODID:-//swoogo.com//NONSGML kigkonsult.se iCalcreator 2.41.90//
CALSCALE:GREGORIAN
UID:65316136-3832-4465-b266-623230636534
BEGIN:VEVENT
UID:a55c084927ab3166aa9a1a06f70256e86925a1df@swoogo.com
DTSTAMP:20260420T194235Z
DESCRIPTION:_ _
DTSTART:20260317T120000Z
DTEND:20260317T123000Z
LAST-MODIFIED:20260420T194235Z
LOCATION:Carahsoft Technology Corporation\, 11493 Sunset Hills Rd\, Suite 1
 00\, Reston\, VA 20190\, United States
SEQUENCE:0
STATUS:CONFIRMED
SUMMARY:AFCEA NOVA Small Business March Breakfast Event
TRANSP:OPAQUE
X-ALT-DESC;FMTTYPE=text/html:<p><em> </em></p>
BEGIN:VALARM
UID:36353630-6537-4631-a537-323339383962
ACTION:DISPLAY
DESCRIPTION:_ _
TRIGGER:-PT15M
END:VALARM
END:VEVENT
END:VCALENDAR
